BEGIN:VCALENDAR
VERSION:2.0
PRODID:-//Brunswick County Habitat for Humanity - ECPv6.15.20//NONSGML v1.0//EN
CALSCALE:GREGORIAN
METHOD:PUBLISH
X-WR-CALNAME:Brunswick County Habitat for Humanity
X-ORIGINAL-URL:https://brunswickcountyhabitat.org
X-WR-CALDESC:Events for Brunswick County Habitat for Humanity
REFRESH-INTERVAL;VALUE=DURATION:PT1H
X-Robots-Tag:noindex
X-PUBLISHED-TTL:PT1H
BEGIN:VTIMEZONE
TZID:America/New_York
BEGIN:DAYLIGHT
TZOFFSETFROM:-0500
TZOFFSETTO:-0400
TZNAME:EDT
DTSTART:20250309T070000
END:DAYLIGHT
BEGIN:STANDARD
TZOFFSETFROM:-0400
TZOFFSETTO:-0500
TZNAME:EST
DTSTART:20251102T060000
END:STANDARD
BEGIN:DAYLIGHT
TZOFFSETFROM:-0500
TZOFFSETTO:-0400
TZNAME:EDT
DTSTART:20260308T070000
END:DAYLIGHT
BEGIN:STANDARD
TZOFFSETFROM:-0400
TZOFFSETTO:-0500
TZNAME:EST
DTSTART:20261101T060000
END:STANDARD
BEGIN:DAYLIGHT
TZOFFSETFROM:-0500
TZOFFSETTO:-0400
TZNAME:EDT
DTSTART:20270314T070000
END:DAYLIGHT
BEGIN:STANDARD
TZOFFSETFROM:-0400
TZOFFSETTO:-0500
TZNAME:EST
DTSTART:20271107T060000
END:STANDARD
END:VTIMEZONE
BEGIN:VEVENT
DTSTART;TZID=America/New_York:20260424T100000
DTEND;TZID=America/New_York:20260424T110000
DTSTAMP:20260424T092403
CREATED:20260417T190523Z
LAST-MODIFIED:20260417T190523Z
UID:10000098-1777024800-1777028400@brunswickcountyhabitat.org
SUMMARY:Joint Groundbreaking Ceremony
DESCRIPTION:We are excited to invite you to a meaningful and momentous occasion—the Groundbreaking Ceremony for not one but TWO  partner families\, taking place in our Highland Hills subdivision in Leland! \nThis isn’t just a groundbreaking—it’s the beginning of a bright new chapter for these incredible families and a significant milestone for our growing community. Join us as we celebrate the power of partnership\, perseverance\, and the promise of homeownership. \nQuestions? Contact us anytime:\n📧 Email: michaelf@bchabitat.org\n📞 Phone: 910-846-3357
URL:https://brunswickcountyhabitat.org/event/joint-groundbreaking-ceremony/
LOCATION:9083 Highland Hills Dr NE\, 9083 Highland Hills Dr NE\, Leland\, NC\, 28451\, United States
CATEGORIES:Groundbreaking
ATTACH;FMTTYPE=image/png:https://brunswickcountyhabitat.org/wp-content/uploads/2026/04/BCHFH-Ceremony-Templates.png
END:VEVENT
END:VCALENDAR